BEGIN:VCALENDAR
VERSION:2.0
PRODID:icalendar-ruby
CALSCALE:GREGORIAN
METHOD:PUBLISH
BEGIN:VEVENT
DTSTAMP:20260422T185003Z
UID:5-544502@cpcgillette.org
DTSTART:20261004T163000Z
DTEND:20261004T173000Z
CLASS:PUBLIC
CREATED:20260422T112524
DESCRIPTION:Sunday Worship
LAST-MODIFIED:20260422T112524
LOCATION:
SUMMARY:Sunday Worship
URL;VALUE=URI:https://www.cpcgillette.org/events/sunday-worship/2026-10-04
END:VEVENT
END:VCALENDAR
