BEGIN:VCALENDAR
VERSION:2.0
PRODID:icalendar-ruby
CALSCALE:GREGORIAN
METHOD:PUBLISH
BEGIN:VEVENT
DTSTAMP:20260422T173629Z
UID:5-544501@cpcgillette.org
DTSTART:20260927T163000Z
DTEND:20260927T173000Z
CLASS:PUBLIC
CREATED:20260422T112524
DESCRIPTION:Sunday Worship
LAST-MODIFIED:20260422T112524
LOCATION:
SUMMARY:Sunday Worship
URL;VALUE=URI:https://www.cpcgillette.org/events/sunday-worship/2026-09-27
END:VEVENT
END:VCALENDAR
