BEGIN:VCALENDAR
VERSION:2.0
PRODID:icalendar-ruby
CALSCALE:GREGORIAN
METHOD:PUBLISH
BEGIN:VEVENT
DTSTAMP:20260422T155844Z
UID:5-544105@cpcgillette.org
DTSTART:20260920T163000Z
DTEND:20260920T173000Z
CLASS:PUBLIC
CREATED:20260422T082955
DESCRIPTION:Sunday Worship
LAST-MODIFIED:20260422T082955
LOCATION:
SUMMARY:Sunday Worship
URL;VALUE=URI:https://www.cpcgillette.org/events/sunday-worship/2026-09-20
END:VEVENT
END:VCALENDAR
