BEGIN:VCALENDAR
VERSION:2.0
PRODID:icalendar-ruby
CALSCALE:GREGORIAN
METHOD:PUBLISH
BEGIN:VEVENT
DTSTAMP:20260422T063722Z
UID:5-543309@cpcgillette.org
DTSTART:20260809T163000Z
DTEND:20260809T173000Z
CLASS:PUBLIC
CREATED:20260421T183252
DESCRIPTION:Sunday Worship
LAST-MODIFIED:20260421T183252
LOCATION:
SUMMARY:Sunday Worship
URL;VALUE=URI:https://www.cpcgillette.org/events/sunday-worship/2026-08-09
END:VEVENT
END:VCALENDAR
