BEGIN:VCALENDAR
VERSION:2.0
PRODID:icalendar-ruby
CALSCALE:GREGORIAN
METHOD:PUBLISH
BEGIN:VEVENT
DTSTAMP:20260422T001530Z
UID:5-542910@cpcgillette.org
DTSTART:20260712T163000Z
DTEND:20260712T173000Z
CLASS:PUBLIC
CREATED:20260421T155406
DESCRIPTION:Sunday Worship
LAST-MODIFIED:20260421T155406
LOCATION:
SUMMARY:Sunday Worship
URL;VALUE=URI:https://www.cpcgillette.org/events/sunday-worship/2026-07-12
END:VEVENT
END:VCALENDAR
