BEGIN:VCALENDAR
VERSION:2.0
PRODID:icalendar-ruby
CALSCALE:GREGORIAN
METHOD:PUBLISH
BEGIN:VEVENT
DTSTAMP:20260421T223745Z
UID:5-542909@cpcgillette.org
DTSTART:20260705T163000Z
DTEND:20260705T173000Z
CLASS:PUBLIC
CREATED:20260421T155406
DESCRIPTION:Sunday Worship
LAST-MODIFIED:20260421T155406
LOCATION:
SUMMARY:Sunday Worship
URL;VALUE=URI:https://www.cpcgillette.org/events/sunday-worship/2026-07-05
END:VEVENT
END:VCALENDAR
