BEGIN:VCALENDAR
VERSION:2.0
PRODID:icalendar-ruby
CALSCALE:GREGORIAN
METHOD:PUBLISH
BEGIN:VEVENT
DTSTAMP:20260421T133609Z
UID:5-541324@cpcgillette.org
DTSTART:20260531T163000Z
DTEND:20260531T173000Z
CLASS:PUBLIC
CREATED:20260421T052524
DESCRIPTION:Sunday Worship
LAST-MODIFIED:20260421T052524
LOCATION:
SUMMARY:Sunday Worship
URL;VALUE=URI:https://www.cpcgillette.org/events/sunday-worship/2026-05-31
END:VEVENT
END:VCALENDAR
