BEGIN:VCALENDAR
VERSION:2.0
PRODID:icalendar-ruby
CALSCALE:GREGORIAN
METHOD:PUBLISH
BEGIN:VEVENT
DTSTAMP:20260421T102637Z
UID:5-540927@cpcgillette.org
DTSTART:20260517T163000Z
DTEND:20260517T173000Z
CLASS:PUBLIC
CREATED:20260420T181859
DESCRIPTION:Sunday Worship
LAST-MODIFIED:20260420T181859
LOCATION:
SUMMARY:Sunday Worship
URL;VALUE=URI:https://www.cpcgillette.org/events/sunday-worship/2026-05-17
END:VEVENT
END:VCALENDAR
