BEGIN:VCALENDAR
VERSION:2.0
PRODID:icalendar-ruby
CALSCALE:GREGORIAN
METHOD:PUBLISH
BEGIN:VEVENT
DTSTAMP:20260421T221006Z
UID:17-543046@cpcgillette.org
DTSTART:20260726T164500Z
DTEND:20260726T180000Z
CLASS:PUBLIC
CREATED:20260421T155407
DESCRIPTION:
LAST-MODIFIED:20260421T155407
LOCATION:Main Sanctuary
SUMMARY:Sunday Service
URL;VALUE=URI:https://www.cpcgillette.org/events/sunday-service/2026-07-26
ATTACH;FILENAME=IMG_1570.jpeg;FMTTYPE=image/jpeg:https://dq5pwpg1q8ru0.clou
 dfront.net/2024/05/01/19/56/06/86793df1-13f9-4f0a-b146-a9b8950d5e4c/IMG_15
 70.jpeg
END:VEVENT
END:VCALENDAR
